BEGIN:VCALENDAR
VERSION:2.0
PRODID:-//Mateřská škola Vrané nad Vltavou - ECPv6.15.20//NONSGML v1.0//EN
CALSCALE:GREGORIAN
METHOD:PUBLISH
X-WR-CALNAME:Mateřská škola Vrané nad Vltavou
X-ORIGINAL-URL:https://msvrane.cz
X-WR-CALDESC:Akce na Mateřská škola Vrané nad Vltavou
REFRESH-INTERVAL;VALUE=DURATION:PT1H
X-Robots-Tag:noindex
X-PUBLISHED-TTL:PT1H
BEGIN:VTIMEZONE
TZID:Europe/Prague
BEGIN:DAYLIGHT
TZOFFSETFROM:+0100
TZOFFSETTO:+0200
TZNAME:CEST
DTSTART:20250330T010000
END:DAYLIGHT
BEGIN:STANDARD
TZOFFSETFROM:+0200
TZOFFSETTO:+0100
TZNAME:CET
DTSTART:20251026T010000
END:STANDARD
BEGIN:DAYLIGHT
TZOFFSETFROM:+0100
TZOFFSETTO:+0200
TZNAME:CEST
DTSTART:20260329T010000
END:DAYLIGHT
BEGIN:STANDARD
TZOFFSETFROM:+0200
TZOFFSETTO:+0100
TZNAME:CET
DTSTART:20261025T010000
END:STANDARD
BEGIN:DAYLIGHT
TZOFFSETFROM:+0100
TZOFFSETTO:+0200
TZNAME:CEST
DTSTART:20270328T010000
END:DAYLIGHT
BEGIN:STANDARD
TZOFFSETFROM:+0200
TZOFFSETTO:+0100
TZNAME:CET
DTSTART:20271031T010000
END:STANDARD
END:VTIMEZONE
BEGIN:VEVENT
DTSTART;TZID=Europe/Prague:20260318T093000
DTEND;TZID=Europe/Prague:20260318T113000
DTSTAMP:20260419T155220
CREATED:20251013T172954Z
LAST-MODIFIED:20260218T102527Z
UID:3101-1773826200-1773833400@msvrane.cz
SUMMARY:SKŘÍTKY KRMIT POVOLENO – D-OSVĚTA
DESCRIPTION:program o zdravém stravování / na dvě skupiny
URL:https://msvrane.cz/kalendar-akce/skritky-krmit-povoleno-d-osveta/
CATEGORIES:Akce celoškolní
END:VEVENT
END:VCALENDAR