BEGIN:VCALENDAR
VERSION:2.0
PRODID:-//Mateřská škola Vrané nad Vltavou - ECPv6.15.20//NONSGML v1.0//EN
CALSCALE:GREGORIAN
METHOD:PUBLISH
X-ORIGINAL-URL:https://msvrane.cz
X-WR-CALDESC:Akce na Mateřská škola Vrané nad Vltavou
REFRESH-INTERVAL;VALUE=DURATION:PT1H
X-Robots-Tag:noindex
X-PUBLISHED-TTL:PT1H
BEGIN:VTIMEZONE
TZID:Europe/Prague
BEGIN:DAYLIGHT
TZOFFSETFROM:+0100
TZOFFSETTO:+0200
TZNAME:CEST
DTSTART:20240331T010000
END:DAYLIGHT
BEGIN:STANDARD
TZOFFSETFROM:+0200
TZOFFSETTO:+0100
TZNAME:CET
DTSTART:20241027T010000
END:STANDARD
BEGIN:DAYLIGHT
TZOFFSETFROM:+0100
TZOFFSETTO:+0200
TZNAME:CEST
DTSTART:20250330T010000
END:DAYLIGHT
BEGIN:STANDARD
TZOFFSETFROM:+0200
TZOFFSETTO:+0100
TZNAME:CET
DTSTART:20251026T010000
END:STANDARD
BEGIN:DAYLIGHT
TZOFFSETFROM:+0100
TZOFFSETTO:+0200
TZNAME:CEST
DTSTART:20260329T010000
END:DAYLIGHT
BEGIN:STANDARD
TZOFFSETFROM:+0200
TZOFFSETTO:+0100
TZNAME:CET
DTSTART:20261025T010000
END:STANDARD
END:VTIMEZONE
BEGIN:VEVENT
DTSTART;TZID=Europe/Prague:20250603T093000
DTEND;TZID=Europe/Prague:20250603T113000
DTSTAMP:20260420T051709
CREATED:20241229T204310Z
LAST-MODIFIED:20241229T204310Z
UID:2934-1748943000-1748950200@msvrane.cz
SUMMARY:Den dětí s indiánem
DESCRIPTION:za příznivého počasí bude akce probíhat na dolní zahradě
URL:https://msvrane.cz/kalendar-akce/den-deti-s-indianem/
CATEGORIES:Akce celoškolní
END:VEVENT
BEGIN:VEVENT
DTSTART;TZID=Europe/Prague:20250605T153000
DTEND;TZID=Europe/Prague:20250605T170000
DTSTAMP:20260420T051709
CREATED:20241229T204756Z
LAST-MODIFIED:20241229T204756Z
UID:2936-1749137400-1749142800@msvrane.cz
SUMMARY:Pasování předškoláků - kouzelník - třídy oranžová a žlutá
DESCRIPTION: Pasování předškoláčků proběhne na spodní školkové zahradě odpoledne s rodiči od 15: 30h.
URL:https://msvrane.cz/kalendar-akce/pasovani-predskolaku-kouzelnik-tridy-oranzova-a-zluta/
CATEGORIES:Akce Oranžová třída,Akce Žlutá třída
END:VEVENT
BEGIN:VEVENT
DTSTART;TZID=Europe/Prague:20250617T080000
DTEND;TZID=Europe/Prague:20250617T170000
DTSTAMP:20260420T051709
CREATED:20250513T065029Z
LAST-MODIFIED:20250513T065029Z
UID:3037-1750147200-1750179600@msvrane.cz
SUMMARY:Zvířátkov - výlet tř. červená a zelená
DESCRIPTION:
URL:https://msvrane.cz/kalendar-akce/zviratkov-vylet-tr-cervena-a-zelena/
CATEGORIES:Akce Červená třída,Akce Zelená třída
END:VEVENT
END:VCALENDAR