BEGIN:VCALENDAR
VERSION:2.0
PRODID:-//Mateřská škola Vrané nad Vltavou - ECPv6.15.20//NONSGML v1.0//EN
CALSCALE:GREGORIAN
METHOD:PUBLISH
X-WR-CALNAME:Mateřská škola Vrané nad Vltavou
X-ORIGINAL-URL:https://msvrane.cz
X-WR-CALDESC:Akce na Mateřská škola Vrané nad Vltavou
REFRESH-INTERVAL;VALUE=DURATION:PT1H
X-Robots-Tag:noindex
X-PUBLISHED-TTL:PT1H
BEGIN:VTIMEZONE
TZID:Europe/Prague
BEGIN:DAYLIGHT
TZOFFSETFROM:+0100
TZOFFSETTO:+0200
TZNAME:CEST
DTSTART:20230326T010000
END:DAYLIGHT
BEGIN:STANDARD
TZOFFSETFROM:+0200
TZOFFSETTO:+0100
TZNAME:CET
DTSTART:20231029T010000
END:STANDARD
BEGIN:DAYLIGHT
TZOFFSETFROM:+0100
TZOFFSETTO:+0200
TZNAME:CEST
DTSTART:20240331T010000
END:DAYLIGHT
BEGIN:STANDARD
TZOFFSETFROM:+0200
TZOFFSETTO:+0100
TZNAME:CET
DTSTART:20241027T010000
END:STANDARD
BEGIN:DAYLIGHT
TZOFFSETFROM:+0100
TZOFFSETTO:+0200
TZNAME:CEST
DTSTART:20250330T010000
END:DAYLIGHT
BEGIN:STANDARD
TZOFFSETFROM:+0200
TZOFFSETTO:+0100
TZNAME:CET
DTSTART:20251026T010000
END:STANDARD
END:VTIMEZONE
BEGIN:VEVENT
DTSTART;TZID=Europe/Prague:20240311T080000
DTEND;TZID=Europe/Prague:20240311T120000
DTSTAMP:20260420T051716
CREATED:20240303T154347Z
LAST-MODIFIED:20240303T154347Z
UID:2747-1710144000-1710158400@msvrane.cz
SUMMARY:Poprvé kuchařem - žlutá+oranžová tř.
DESCRIPTION:Projektový den vede zkušený kuchař\, který umí zaujmout děti a předá jim základní kuchařské dovednosti hravou formou!\nV rámci projektového dne se děti naučí mnoho nových věcí\, ponoří se do práce kuchaře a sami si upečou skvělý muffin\, který si pak sní.\nDěti budou v první polovině programu teoreticky seznámeny pomocí zábavných her a úkolů s novými znalostmi a zkušenostmi\, které si v druhé polovině všechny reálně vyzkouší při přípravě muffinu.\nCo se děti v rámci projektového dne naučí:\nV první části programu probereme:\n1.       Osobní hygienu – správné mytí rukou\, ochranný oděv\n2.       Hygienu potravin – hygienické ošetření potravin\, kontrola čerstvosti surovin\n3.       Bezpečnou manipulaci s nožem – nácvik na bezpečném dřevěném nožíku\n4.       Obeznámení se s riziky\, které kuchyně má – řezné rány a popáleniny\n5.       Ošetření řezné rány – správné použití náplasti\n V druhé části programu si prakticky vyzkoušíme:\n1.       Osobní hygienu\n2.       Co je to recept a jak podle něj vaříme\n3.       Seznámí se kuchyňským náčiním\n4.       Pomocí správných technik nakrájí a zkontrolují banán\n5.       Krok po kroku dle receptu společně s kuchařem každý připraví svůj muffin\n6.       Úklid a důležitost čistoty a organizace při vaření \nProgram proběhne ve dvou skupinách\, 8:00 – 9:45 a 10:00 – 11:45
URL:https://msvrane.cz/kalendar-akce/poprve-kucharem-zlutaoranzova-tr/
CATEGORIES:Akce Oranžová třída,Akce Žlutá třída
END:VEVENT
BEGIN:VEVENT
DTSTART;TZID=Europe/Prague:20240321T090000
DTEND;TZID=Europe/Prague:20240321T113000
DTSTAMP:20260420T051716
CREATED:20240303T174320Z
LAST-MODIFIED:20240303T174320Z
UID:2761-1711011600-1711020600@msvrane.cz
SUMMARY:Návštěva místní knihovny - žlutá + oranžová + červená tř.
DESCRIPTION:
URL:https://msvrane.cz/kalendar-akce/navsteva-mistni-knihovny-zluta-oranzova-cervena-tr/
CATEGORIES:Akce Červená třída,Akce Oranžová třída,Akce Žlutá třída
END:VEVENT
END:VCALENDAR