BEGIN:VCALENDAR
VERSION:2.0
PRODID:-//Mateřská škola Vrané nad Vltavou - ECPv6.15.20//NONSGML v1.0//EN
CALSCALE:GREGORIAN
METHOD:PUBLISH
X-ORIGINAL-URL:https://msvrane.cz
X-WR-CALDESC:Akce na Mateřská škola Vrané nad Vltavou
REFRESH-INTERVAL;VALUE=DURATION:PT1H
X-Robots-Tag:noindex
X-PUBLISHED-TTL:PT1H
BEGIN:VTIMEZONE
TZID:Europe/Prague
BEGIN:DAYLIGHT
TZOFFSETFROM:+0100
TZOFFSETTO:+0200
TZNAME:CEST
DTSTART:20240331T010000
END:DAYLIGHT
BEGIN:STANDARD
TZOFFSETFROM:+0200
TZOFFSETTO:+0100
TZNAME:CET
DTSTART:20241027T010000
END:STANDARD
BEGIN:DAYLIGHT
TZOFFSETFROM:+0100
TZOFFSETTO:+0200
TZNAME:CEST
DTSTART:20250330T010000
END:DAYLIGHT
BEGIN:STANDARD
TZOFFSETFROM:+0200
TZOFFSETTO:+0100
TZNAME:CET
DTSTART:20251026T010000
END:STANDARD
BEGIN:DAYLIGHT
TZOFFSETFROM:+0100
TZOFFSETTO:+0200
TZNAME:CEST
DTSTART:20260329T010000
END:DAYLIGHT
BEGIN:STANDARD
TZOFFSETFROM:+0200
TZOFFSETTO:+0100
TZNAME:CET
DTSTART:20261025T010000
END:STANDARD
END:VTIMEZONE
BEGIN:VEVENT
DTSTART;TZID=Europe/Prague:20251022T171500
DTEND;TZID=Europe/Prague:20251022T190000
DTSTAMP:20260419T213320
CREATED:20251013T171522Z
LAST-MODIFIED:20251013T171522Z
UID:3085-1761153300-1761159600@msvrane.cz
SUMMARY:HALLOWEENSKÁ STEZKA  - Akce s rodiči
DESCRIPTION:Stezka plná úkolů a zábavy v okolí naší školky\, kostýmy vítány 🙂
URL:https://msvrane.cz/kalendar-akce/halloweenska-stezka-akce-s-rodici/
CATEGORIES:Akce celoškolní,Akce Červená třída,Akce Modrá třída,Akce Oranžová třída,Akce Zelená třída,Akce Žlutá třída
END:VEVENT
END:VCALENDAR