BEGIN:VCALENDAR
VERSION:2.0
PRODID:-//Mateřská škola Vrané nad Vltavou - ECPv6.15.20//NONSGML v1.0//EN
CALSCALE:GREGORIAN
METHOD:PUBLISH
X-WR-CALNAME:Mateřská škola Vrané nad Vltavou
X-ORIGINAL-URL:https://msvrane.cz
X-WR-CALDESC:Akce na Mateřská škola Vrané nad Vltavou
REFRESH-INTERVAL;VALUE=DURATION:PT1H
X-Robots-Tag:noindex
X-PUBLISHED-TTL:PT1H
BEGIN:VTIMEZONE
TZID:Europe/Prague
BEGIN:DAYLIGHT
TZOFFSETFROM:+0100
TZOFFSETTO:+0200
TZNAME:CEST
DTSTART:20240331T010000
END:DAYLIGHT
BEGIN:STANDARD
TZOFFSETFROM:+0200
TZOFFSETTO:+0100
TZNAME:CET
DTSTART:20241027T010000
END:STANDARD
BEGIN:DAYLIGHT
TZOFFSETFROM:+0100
TZOFFSETTO:+0200
TZNAME:CEST
DTSTART:20250330T010000
END:DAYLIGHT
BEGIN:STANDARD
TZOFFSETFROM:+0200
TZOFFSETTO:+0100
TZNAME:CET
DTSTART:20251026T010000
END:STANDARD
BEGIN:DAYLIGHT
TZOFFSETFROM:+0100
TZOFFSETTO:+0200
TZNAME:CEST
DTSTART:20260329T010000
END:DAYLIGHT
BEGIN:STANDARD
TZOFFSETFROM:+0200
TZOFFSETTO:+0100
TZNAME:CET
DTSTART:20261025T010000
END:STANDARD
END:VTIMEZONE
BEGIN:VEVENT
DTSTART;TZID=Europe/Prague:20251106T080000
DTEND;TZID=Europe/Prague:20251106T113000
DTSTAMP:20260419T232500
CREATED:20251013T171849Z
LAST-MODIFIED:20251013T171849Z
UID:3089-1762416000-1762428600@msvrane.cz
SUMMARY:LOGOPEDICKÁ DEPISTÁŽ- žlutá\, oranžová
DESCRIPTION:
URL:https://msvrane.cz/kalendar-akce/logopedicka-depistaz-zluta-oranzova/
CATEGORIES:Akce Oranžová třída,Akce Žlutá třída
END:VEVENT
END:VCALENDAR