BEGIN:VCALENDAR
VERSION:2.0
PRODID:-//Mateřská škola Vrané nad Vltavou - ECPv6.15.20//NONSGML v1.0//EN
CALSCALE:GREGORIAN
METHOD:PUBLISH
X-WR-CALNAME:Mateřská škola Vrané nad Vltavou
X-ORIGINAL-URL:https://msvrane.cz
X-WR-CALDESC:Akce na Mateřská škola Vrané nad Vltavou
REFRESH-INTERVAL;VALUE=DURATION:PT1H
X-Robots-Tag:noindex
X-PUBLISHED-TTL:PT1H
BEGIN:VTIMEZONE
TZID:Europe/Prague
BEGIN:DAYLIGHT
TZOFFSETFROM:+0100
TZOFFSETTO:+0200
TZNAME:CEST
DTSTART:20240331T010000
END:DAYLIGHT
BEGIN:STANDARD
TZOFFSETFROM:+0200
TZOFFSETTO:+0100
TZNAME:CET
DTSTART:20241027T010000
END:STANDARD
BEGIN:DAYLIGHT
TZOFFSETFROM:+0100
TZOFFSETTO:+0200
TZNAME:CEST
DTSTART:20250330T010000
END:DAYLIGHT
BEGIN:STANDARD
TZOFFSETFROM:+0200
TZOFFSETTO:+0100
TZNAME:CET
DTSTART:20251026T010000
END:STANDARD
BEGIN:DAYLIGHT
TZOFFSETFROM:+0100
TZOFFSETTO:+0200
TZNAME:CEST
DTSTART:20260329T010000
END:DAYLIGHT
BEGIN:STANDARD
TZOFFSETFROM:+0200
TZOFFSETTO:+0100
TZNAME:CET
DTSTART:20261025T010000
END:STANDARD
BEGIN:DAYLIGHT
TZOFFSETFROM:+0100
TZOFFSETTO:+0200
TZNAME:CEST
DTSTART:20270328T010000
END:DAYLIGHT
BEGIN:STANDARD
TZOFFSETFROM:+0200
TZOFFSETTO:+0100
TZNAME:CET
DTSTART:20271031T010000
END:STANDARD
END:VTIMEZONE
BEGIN:VEVENT
DTSTART;TZID=Europe/Prague:20250925T091500
DTEND;TZID=Europe/Prague:20250925T113000
DTSTAMP:20260420T020310
CREATED:20251013T162840Z
LAST-MODIFIED:20251013T162840Z
UID:3081-1758791700-1758799800@msvrane.cz
SUMMARY:PROGRAM V KNIHOVNĚ VRANÉ NAD VLTAVOU
DESCRIPTION:Návštěva v knihovně ve Vraném\, zábavně vzdělávací program o vhodném chování ke knížkám. \nTřídy červená\, oranžová\, žlutá. Po třídách.
URL:https://msvrane.cz/kalendar-akce/program-v-knihovne-vrane-nad-vltavou/
CATEGORIES:Akce Červená třída,Akce Oranžová třída,Akce Žlutá třída
END:VEVENT
BEGIN:VEVENT
DTSTART;TZID=Europe/Prague:20251008T093000
DTEND;TZID=Europe/Prague:20251008T113000
DTSTAMP:20260420T020310
CREATED:20251013T163343Z
LAST-MODIFIED:20251013T163343Z
UID:3083-1759915800-1759923000@msvrane.cz
SUMMARY:TRABLE S PŘÍŠEROU – D-OSVĚTA
DESCRIPTION:Program o tom\, jak naložit s trápením všeho druhu. A hlavně – pokud se s trápením svěříme\, nebudeme na to sami a někdo nám pomůže! / na dvě skupiny
URL:https://msvrane.cz/kalendar-akce/trable-s-priserou-d-osveta/
CATEGORIES:Akce celoškolní
END:VEVENT
BEGIN:VEVENT
DTSTART;TZID=Europe/Prague:20251022T171500
DTEND;TZID=Europe/Prague:20251022T190000
DTSTAMP:20260420T020310
CREATED:20251013T171522Z
LAST-MODIFIED:20251013T171522Z
UID:3085-1761153300-1761159600@msvrane.cz
SUMMARY:HALLOWEENSKÁ STEZKA  - Akce s rodiči
DESCRIPTION:Stezka plná úkolů a zábavy v okolí naší školky\, kostýmy vítány 🙂
URL:https://msvrane.cz/kalendar-akce/halloweenska-stezka-akce-s-rodici/
CATEGORIES:Akce celoškolní,Akce Červená třída,Akce Modrá třída,Akce Oranžová třída,Akce Zelená třída,Akce Žlutá třída
END:VEVENT
BEGIN:VEVENT
DTSTART;TZID=Europe/Prague:20251106T080000
DTEND;TZID=Europe/Prague:20251106T113000
DTSTAMP:20260420T020310
CREATED:20251013T171849Z
LAST-MODIFIED:20251013T171849Z
UID:3089-1762416000-1762428600@msvrane.cz
SUMMARY:LOGOPEDICKÁ DEPISTÁŽ- žlutá\, oranžová
DESCRIPTION:
URL:https://msvrane.cz/kalendar-akce/logopedicka-depistaz-zluta-oranzova/
CATEGORIES:Akce Oranžová třída,Akce Žlutá třída
END:VEVENT
BEGIN:VEVENT
DTSTART;TZID=Europe/Prague:20251106T093000
DTEND;TZID=Europe/Prague:20251106T103000
DTSTAMP:20260420T020310
CREATED:20251013T171718Z
LAST-MODIFIED:20251013T171718Z
UID:3087-1762421400-1762425000@msvrane.cz
SUMMARY:KOUZELNÝ KNOFLÍK – divadelní představení\, p. Koutová
DESCRIPTION:
URL:https://msvrane.cz/kalendar-akce/kouzelny-knoflik-divadelni-predstaveni-p-koutova/
CATEGORIES:Akce celoškolní
END:VEVENT
BEGIN:VEVENT
DTSTART;TZID=Europe/Prague:20251120T090000
DTEND;TZID=Europe/Prague:20251120T100000
DTSTAMP:20260420T020310
CREATED:20251013T172001Z
LAST-MODIFIED:20251013T172001Z
UID:3091-1763629200-1763632800@msvrane.cz
SUMMARY:MAXIPES FÍK – divadelní představení – div. Špilberg
DESCRIPTION:
URL:https://msvrane.cz/kalendar-akce/maxipes-fik-divadelni-predstaveni-div-spilberg/
CATEGORIES:Akce celoškolní
END:VEVENT
BEGIN:VEVENT
DTSTART;TZID=Europe/Prague:20251201T093000
DTEND;TZID=Europe/Prague:20251201T110000
DTSTAMP:20260420T020310
CREATED:20251013T172243Z
LAST-MODIFIED:20251013T172243Z
UID:3093-1764581400-1764586800@msvrane.cz
SUMMARY:MIKULÁŠSKÁ SHOW – p. Rucký
DESCRIPTION:
URL:https://msvrane.cz/kalendar-akce/mikulasska-show-p-rucky/
CATEGORIES:Akce celoškolní
END:VEVENT
BEGIN:VEVENT
DTSTART;TZID=Europe/Prague:20251204T080000
DTEND;TZID=Europe/Prague:20251204T110000
DTSTAMP:20260420T020310
CREATED:20251013T172349Z
LAST-MODIFIED:20251013T172349Z
UID:3095-1764835200-1764846000@msvrane.cz
SUMMARY:VÁNOČNÍ FOTOGRAFOVÁNÍ - po třídách
DESCRIPTION:
URL:https://msvrane.cz/kalendar-akce/vanocni-fotografovani-po-tridach/
CATEGORIES:Akce celoškolní
END:VEVENT
BEGIN:VEVENT
DTSTART;TZID=Europe/Prague:20251218T153000
DTEND;TZID=Europe/Prague:20251218T170000
DTSTAMP:20260420T020310
CREATED:20251013T172600Z
LAST-MODIFIED:20251013T172600Z
UID:3097-1766071800-1766077200@msvrane.cz
SUMMARY:VÁNOČNÍ JARMARK VE ŠKOLCE + OHNIVÁ SHOW – Akce s rodiči na spodní školní zahradě
DESCRIPTION:
URL:https://msvrane.cz/kalendar-akce/vanocni-jarmark-ve-skolce-ohniva-show-akce-s-rodici-na-spodni-skolni-zahrade/
CATEGORIES:Akce celoškolní
END:VEVENT
BEGIN:VEVENT
DTSTART;TZID=Europe/Prague:20260107T080000
DTEND;TZID=Europe/Prague:20260107T113000
DTSTAMP:20260420T020310
CREATED:20251013T172738Z
LAST-MODIFIED:20251013T172738Z
UID:3099-1767772800-1767785400@msvrane.cz
SUMMARY:MAŠERKA\,HUSKY – PSÍ SPŘEŽENÍ
DESCRIPTION:program a ukázka psího spřežení se saněmi
URL:https://msvrane.cz/kalendar-akce/maserkahusky-psi-sprezeni/
CATEGORIES:Akce celoškolní
END:VEVENT
BEGIN:VEVENT
DTSTART;TZID=Europe/Prague:20260113T100000
DTEND;TZID=Europe/Prague:20260113T110000
DTSTAMP:20260420T020310
CREATED:20260112T195350Z
LAST-MODIFIED:20260112T195350Z
UID:3125-1768298400-1768302000@msvrane.cz
SUMMARY:Kostel sv. Jiří- tříkrálová sbírka
DESCRIPTION:Návštěva místního kostelíku\, zpěv písní\, přispění na tříkrálovou sbírku. Návštěva při nepřízni počasí nebude uskutečněna. \n 
URL:https://msvrane.cz/kalendar-akce/kostel-sv-jiri-trikralova-sbirka/
CATEGORIES:Akce celoškolní
END:VEVENT
BEGIN:VEVENT
DTSTART;TZID=Europe/Prague:20260211T090000
DTEND;TZID=Europe/Prague:20260211T100000
DTSTAMP:20260420T020310
CREATED:20251013T173325Z
LAST-MODIFIED:20251013T173325Z
UID:3103-1770800400-1770804000@msvrane.cz
SUMMARY:ŽONGLERSKÉ PŘEDSTAVENÍ
DESCRIPTION:
URL:https://msvrane.cz/kalendar-akce/zonglerske-predstaveni/
CATEGORIES:Akce celoškolní
END:VEVENT
BEGIN:VEVENT
DTSTART;TZID=Europe/Prague:20260310T093000
DTEND;TZID=Europe/Prague:20260310T103000
DTSTAMP:20260420T020310
CREATED:20260112T194810Z
LAST-MODIFIED:20260112T194810Z
UID:3123-1773135000-1773138600@msvrane.cz
SUMMARY:Rytíř Ba\, Ja....Ja - divadlo 100dortíků
DESCRIPTION:
URL:https://msvrane.cz/kalendar-akce/rytir-ba-ja-ja-divadlo-100dortiku/
CATEGORIES:Akce celoškolní
END:VEVENT
BEGIN:VEVENT
DTSTART;TZID=Europe/Prague:20260318T093000
DTEND;TZID=Europe/Prague:20260318T113000
DTSTAMP:20260420T020310
CREATED:20251013T172954Z
LAST-MODIFIED:20260218T102527Z
UID:3101-1773826200-1773833400@msvrane.cz
SUMMARY:SKŘÍTKY KRMIT POVOLENO – D-OSVĚTA
DESCRIPTION:program o zdravém stravování / na dvě skupiny
URL:https://msvrane.cz/kalendar-akce/skritky-krmit-povoleno-d-osveta/
CATEGORIES:Akce celoškolní
END:VEVENT
BEGIN:VEVENT
DTSTART;TZID=Europe/Prague:20260324T090000
DTEND;TZID=Europe/Prague:20260324T100000
DTSTAMP:20260420T020310
CREATED:20260218T103222Z
LAST-MODIFIED:20260218T103222Z
UID:3144-1774342800-1774346400@msvrane.cz
SUMMARY:"Celé Česko čte dětem" - p. Janauerová
DESCRIPTION:
URL:https://msvrane.cz/kalendar-akce/cele-cesko-cte-detem-p-janauerova/
CATEGORIES:Akce celoškolní
END:VEVENT
BEGIN:VEVENT
DTSTART;TZID=Europe/Prague:20260326T090000
DTEND;TZID=Europe/Prague:20260326T094500
DTSTAMP:20260420T020310
CREATED:20251013T173603Z
LAST-MODIFIED:20260218T102212Z
UID:3105-1774515600-1774518300@msvrane.cz
SUMMARY:ŽIVOT SURIKAT - zrušeno ze strany organizátora
DESCRIPTION:vzdělávací program o surikatách\, život\, chov\, ukázka živých surikat
URL:https://msvrane.cz/kalendar-akce/zivot-surikat/
CATEGORIES:Akce celoškolní
END:VEVENT
BEGIN:VEVENT
DTSTART;TZID=Europe/Prague:20260409T080000
DTEND;TZID=Europe/Prague:20260409T113000
DTSTAMP:20260420T020310
CREATED:20251013T173714Z
LAST-MODIFIED:20251013T173714Z
UID:3107-1775721600-1775734200@msvrane.cz
SUMMARY:BUBNOVÁNÍ VE ŠKOLCE- Davído – po třídách
DESCRIPTION:
URL:https://msvrane.cz/kalendar-akce/bubnovani-ve-skolce-davido-po-tridach/
CATEGORIES:Akce celoškolní
END:VEVENT
BEGIN:VEVENT
DTSTART;TZID=Europe/Prague:20260512T080000
DTEND;TZID=Europe/Prague:20260512T153000
DTSTAMP:20260420T020310
CREATED:20260218T103951Z
LAST-MODIFIED:20260218T103951Z
UID:3146-1778572800-1778599800@msvrane.cz
SUMMARY:Výlet Zážitkového parku Zeměráj - oranžová+žlutá třída
DESCRIPTION:Co nás čeká v zážitkovém parku – stanoviště areálu – historická vesnice s kostýmovanou lektorkou\, stezka naboso s množstvím interaktivních a naučných úkolů\, které jsou zaměřeny na poznávání české přírody\, dětská herní vesnice\, krytá dětská herna + po celém areálu dále rozmístěné hry\, hlavolamy\, tématická hřiště\, bludiště aj.
URL:https://msvrane.cz/kalendar-akce/vylet-zazitkoveho-parku-zemeraj-oranzovazluta-trida/
CATEGORIES:Akce Oranžová třída,Akce Žlutá třída
END:VEVENT
BEGIN:VEVENT
DTSTART;TZID=Europe/Prague:20260519T080000
DTEND;TZID=Europe/Prague:20260519T113000
DTSTAMP:20260420T020310
CREATED:20251013T173842Z
LAST-MODIFIED:20251013T173842Z
UID:3109-1779177600-1779190200@msvrane.cz
SUMMARY:DOPRAVNÍ HŘIŠTĚ V MŠ – po třídách
DESCRIPTION:
URL:https://msvrane.cz/kalendar-akce/dopravni-hriste-v-ms-po-tridach/
CATEGORIES:Akce celoškolní
END:VEVENT
BEGIN:VEVENT
DTSTART;TZID=Europe/Prague:20260526T080000
DTEND;TZID=Europe/Prague:20260526T123000
DTSTAMP:20260420T020310
CREATED:20251013T174004Z
LAST-MODIFIED:20251013T174004Z
UID:3111-1779782400-1779798600@msvrane.cz
SUMMARY:RÝŽOVÁNÍ ZLATA – po třídách
DESCRIPTION:
URL:https://msvrane.cz/kalendar-akce/ryzovani-zlata-po-tridach/
CATEGORIES:Akce celoškolní
END:VEVENT
BEGIN:VEVENT
DTSTART;TZID=Europe/Prague:20260602T080000
DTEND;TZID=Europe/Prague:20260602T153000
DTSTAMP:20260420T020310
CREATED:20260218T104223Z
LAST-MODIFIED:20260218T104223Z
UID:3148-1780387200-1780414200@msvrane.cz
SUMMARY:Výlet do Zážitkového parku Zeměráj  - zelená+červená třída
DESCRIPTION:Co nás čeká v zážitkovém parku – stanoviště areálu – historická vesnice s kostýmovanou lektorkou\, stezka naboso s množstvím interaktivních a naučných úkolů\, které jsou zaměřeny na poznávání české přírody\, dětská herní vesnice\, krytá dětská herna + po celém areálu dále rozmístěné hry\, hlavolamy\, tématická hřiště\, bludiště aj.
URL:https://msvrane.cz/kalendar-akce/vylet-do-zazitkoveho-parku-zemeraj-zelenacervena-trida/
CATEGORIES:Akce Červená třída,Akce Zelená třída
END:VEVENT
BEGIN:VEVENT
DTSTART;TZID=Europe/Prague:20260603T080000
DTEND;TZID=Europe/Prague:20260603T110000
DTSTAMP:20260420T020310
CREATED:20260218T104423Z
LAST-MODIFIED:20260218T104423Z
UID:3150-1780473600-1780484400@msvrane.cz
SUMMARY:Fotografování tříd
DESCRIPTION:
URL:https://msvrane.cz/kalendar-akce/fotografovani-trid-4/
CATEGORIES:Akce celoškolní
END:VEVENT
BEGIN:VEVENT
DTSTART;TZID=Europe/Prague:20260609T153000
DTEND;TZID=Europe/Prague:20260609T163000
DTSTAMP:20260420T020310
CREATED:20251013T174348Z
LAST-MODIFIED:20251013T174348Z
UID:3113-1781019000-1781022600@msvrane.cz
SUMMARY:PASOVÁNÍ PŘEDŠKOLÁKŮ  -p. Koutová
DESCRIPTION:Akce s rodiči\, spodní školní zahrada\, tř. oranžová\, žlutá
URL:https://msvrane.cz/kalendar-akce/pasovani-predskolaku-p-koutova/
CATEGORIES:Akce Oranžová třída,Akce Žlutá třída
END:VEVENT
END:VCALENDAR