BEGIN:VCALENDAR
VERSION:2.0
PRODID:-//Mateřská škola Vrané nad Vltavou - ECPv6.15.20//NONSGML v1.0//EN
CALSCALE:GREGORIAN
METHOD:PUBLISH
X-WR-CALNAME:Mateřská škola Vrané nad Vltavou
X-ORIGINAL-URL:https://msvrane.cz
X-WR-CALDESC:Akce na Mateřská škola Vrané nad Vltavou
REFRESH-INTERVAL;VALUE=DURATION:PT1H
X-Robots-Tag:noindex
X-PUBLISHED-TTL:PT1H
BEGIN:VTIMEZONE
TZID:Europe/Prague
BEGIN:DAYLIGHT
TZOFFSETFROM:+0100
TZOFFSETTO:+0200
TZNAME:CEST
DTSTART:20230326T010000
END:DAYLIGHT
BEGIN:STANDARD
TZOFFSETFROM:+0200
TZOFFSETTO:+0100
TZNAME:CET
DTSTART:20231029T010000
END:STANDARD
BEGIN:DAYLIGHT
TZOFFSETFROM:+0100
TZOFFSETTO:+0200
TZNAME:CEST
DTSTART:20240331T010000
END:DAYLIGHT
BEGIN:STANDARD
TZOFFSETFROM:+0200
TZOFFSETTO:+0100
TZNAME:CET
DTSTART:20241027T010000
END:STANDARD
BEGIN:DAYLIGHT
TZOFFSETFROM:+0100
TZOFFSETTO:+0200
TZNAME:CEST
DTSTART:20250330T010000
END:DAYLIGHT
BEGIN:STANDARD
TZOFFSETFROM:+0200
TZOFFSETTO:+0100
TZNAME:CET
DTSTART:20251026T010000
END:STANDARD
BEGIN:DAYLIGHT
TZOFFSETFROM:+0100
TZOFFSETTO:+0200
TZNAME:CEST
DTSTART:20260329T010000
END:DAYLIGHT
BEGIN:STANDARD
TZOFFSETFROM:+0200
TZOFFSETTO:+0100
TZNAME:CET
DTSTART:20261025T010000
END:STANDARD
END:VTIMEZONE
BEGIN:VEVENT
DTSTART;TZID=Europe/Prague:20250428T153000
DTEND;TZID=Europe/Prague:20250428T170000
DTSTAMP:20260420T051220
CREATED:20241229T202009Z
LAST-MODIFIED:20241229T202009Z
UID:2926-1745854200-1745859600@msvrane.cz
SUMMARY:Dravci - odpoledne s rodiči
DESCRIPTION:Akce bude probíhat na spodní zahradě od 15:30 hod.
URL:https://msvrane.cz/kalendar-akce/dravci-odpoledne-s-rodici/
CATEGORIES:Akce celoškolní
END:VEVENT
BEGIN:VEVENT
DTSTART;TZID=Europe/Prague:20250424T153000
DTEND;TZID=Europe/Prague:20250424T163000
DTSTAMP:20260420T051220
CREATED:20250204T183602Z
LAST-MODIFIED:20250513T064303Z
UID:2976-1745508600-1745512200@msvrane.cz
SUMMARY:Čarodějnický rej - odpolední akce s rodiči - ZRUŠENO VZHLEDEM K NEPŘÍZNIVÉMU POČASÍ
DESCRIPTION:Akce se bude konat na spodní školní zahradě od 15:30 h. Čarodějnice a čarodějové vítáni.
URL:https://msvrane.cz/kalendar-akce/carodejnicky-rej-odpoledni-akce-s-rodici/
CATEGORIES:Akce celoškolní
END:VEVENT
BEGIN:VEVENT
DTSTART;TZID=Europe/Prague:20250407T093000
DTEND;TZID=Europe/Prague:20250407T113000
DTSTAMP:20260420T051220
CREATED:20250204T184553Z
LAST-MODIFIED:20250204T184553Z
UID:2978-1744018200-1744025400@msvrane.cz
SUMMARY:Koncert pro MŠ v sále ZUŠ
DESCRIPTION:Děti z ZUŠ si připravily koncert pro děti z MŠ v sále ZUŠ  od 9.30 a od 10.30. \n\n\n 
URL:https://msvrane.cz/kalendar-akce/koncert-pro-ms-v-sale-zus/
CATEGORIES:Akce celoškolní
END:VEVENT
BEGIN:VEVENT
DTSTART;TZID=Europe/Prague:20250401T080000
DTEND;TZID=Europe/Prague:20250401T113000
DTSTAMP:20260420T051220
CREATED:20241229T201757Z
LAST-MODIFIED:20241229T201757Z
UID:2924-1743494400-1743507000@msvrane.cz
SUMMARY:Polytechnika - truhlíky - Velikonoce
DESCRIPTION:Akce bude probíhat po třídách.
URL:https://msvrane.cz/kalendar-akce/polytechnika-truhliky-velikonoce/
CATEGORIES:Akce celoškolní
END:VEVENT
BEGIN:VEVENT
DTSTART;TZID=Europe/Prague:20250318T080000
DTEND;TZID=Europe/Prague:20250318T113000
DTSTAMP:20260420T051220
CREATED:20241229T201533Z
LAST-MODIFIED:20241229T201533Z
UID:2922-1742284800-1742297400@msvrane.cz
SUMMARY:Davído - ozvučná dřívka\, hudební nástroje
DESCRIPTION:Program bude probíhat po třídách.
URL:https://msvrane.cz/kalendar-akce/davido-ozvucna-drivka-hudebni-nastroje/
CATEGORIES:Akce celoškolní
END:VEVENT
BEGIN:VEVENT
DTSTART;TZID=Europe/Prague:20250311T093000
DTEND;TZID=Europe/Prague:20250311T113000
DTSTAMP:20260420T051220
CREATED:20250204T182631Z
LAST-MODIFIED:20250204T182631Z
UID:2974-1741685400-1741692600@msvrane.cz
SUMMARY:Budulínek - Kašpárkovo loutkové divadlo - marionety
DESCRIPTION:
URL:https://msvrane.cz/kalendar-akce/budulinek-kasparkovo-loutkove-divadlo-marionety/
CATEGORIES:Akce celoškolní
END:VEVENT
BEGIN:VEVENT
DTSTART;TZID=Europe/Prague:20250306T080000
DTEND;TZID=Europe/Prague:20250306T113000
DTSTAMP:20260420T051220
CREATED:20241229T195041Z
LAST-MODIFIED:20250204T181909Z
UID:2914-1741248000-1741260600@msvrane.cz
SUMMARY:projektový den Poprvé kuchařem
DESCRIPTION:„POPRVÉ KUCHAŘEM“. \nProjektový den vede zkušený kuchař\, který umí zaujmout děti a předá jim základní kuchařské dovednosti hravou formou! \nV rámci projektového dne se děti naučí mnoho nových věcí\, ponoří se do práce kuchaře a sami si upečou skvělý muffin\, který si pak sní. \nDěti budou v první polovině programu teoreticky seznámeny pomocí zábavných her a úkolů s novými znalostmi a zkušenostmi\, které si v druhé polovině všechny reálně vyzkouší při přípravě muffinu. \nCo se děti v rámci projektového dne naučí: \nV první části programu probereme:\n1.       Osobní hygienu – správné mytí rukou\, ochranný oděv\n2.      Hygienu potravin – hygienické ošetření potravin\, kontrola čerstvosti surovin\n3.      Bezpečnou manipulaci s nožem – nácvik na bezpečném dřevěném nožíku\n4.     Obeznámení se s riziky\, které kuchyně má – řezné rány a popáleniny\n5.      Ošetření řezné rány – správné použití náplasti\n \nV druhé části programu si prakticky vyzkoušíme:\n1.      Osobní hygienu\n2.     Co je to recept a jak podle něj vaříme\n3.     Seznámí se s kuchyňským náčiním\n4.     Pomocí správných technik nakrájí a zkontrolují banán\n5.     Krok po kroku dle receptu společně s kuchařem každý připraví svůj muffin\n6.     Úklid a důležitost čistoty a organizace při vaření
URL:https://msvrane.cz/kalendar-akce/projektovy-den-poprve-kucharem/
CATEGORIES:Akce Červená třída,Akce Zelená třída
END:VEVENT
BEGIN:VEVENT
DTSTART;TZID=Europe/Prague:20250305T090000
DTEND;TZID=Europe/Prague:20250305T113000
DTSTAMP:20260420T051220
CREATED:20241229T200827Z
LAST-MODIFIED:20241229T205423Z
UID:2920-1741165200-1741174200@msvrane.cz
SUMMARY:3\, 2\, 1..... Start! - D - osvěta
DESCRIPTION:Program o vyváženém přístupu ke zdraví. Je potřeba zdravá strava\, přiměřený pohyb a dostatečný odpočinek\, aby vše dohromady správně fungovalo. Hlavní\, nejdelší část programu se podrobně věnuje významu a důležitosti pohybu a sportu a je zde zařazena i aktivní pohybová část zaměřená na balanční cvičení.
URL:https://msvrane.cz/kalendar-akce/3-2-1-start-d-osveta/
CATEGORIES:Akce celoškolní
END:VEVENT
BEGIN:VEVENT
DTSTART;TZID=Europe/Prague:20250220T093000
DTEND;TZID=Europe/Prague:20250220T103000
DTSTAMP:20260420T051220
CREATED:20241229T195933Z
LAST-MODIFIED:20250204T181729Z
UID:2918-1740043800-1740047400@msvrane.cz
SUMMARY:Rytířská pohádka - p. Koutová
DESCRIPTION:Veselá\, písničková pohádka plná dobrodružství\, kde děti potkají dva rytíře\, taky loupežníky a trpaslíka Rytíř Dobromír se vydá do světa vysvobodit krásnou princeznu Růženku\, cestou v krčmě potká hospodského Jaroslava\, který se k Dobromírovi přidá a bezhlavě se do obrázku princezny zamiluje.. Podaří se rytířům vysvobodit princeznu Růženku? ⚘a nebo ne? To se dozvíte až na konci pohádky.\nPísničky\,které zazní-\n*Skřítkové\,tesaři\n*Když si tě dívko představím\n*Zavolejte stráže\n*Hoja hoj a spousta dalších.
URL:https://msvrane.cz/kalendar-akce/rytirska-pohadka-p-koutova/
CATEGORIES:Akce celoškolní
END:VEVENT
BEGIN:VEVENT
DTSTART;TZID=Europe/Prague:20250204T083000
DTEND;TZID=Europe/Prague:20250204T113000
DTSTAMP:20260420T051220
CREATED:20241229T195236Z
LAST-MODIFIED:20241229T195236Z
UID:2916-1738657800-1738668600@msvrane.cz
SUMMARY:projektový den Poprvé kuchařem
DESCRIPTION:„POPRVÉ KUCHAŘEM“. \nProjektový den vede zkušený kuchař\, který umí zaujmout děti a předá jim základní kuchařské dovednosti hravou formou! \nV rámci projektového dne se děti naučí mnoho nových věcí\, ponoří se do práce kuchaře a sami si upečou skvělý muffin\, který si pak sní. \nDěti budou v první polovině programu teoreticky seznámeny pomocí zábavných her a úkolů s novými znalostmi a zkušenostmi\, které si v druhé polovině všechny reálně vyzkouší při přípravě muffinu. \nCo se děti v rámci projektového dne naučí: \nV první části programu probereme:\n1.       Osobní hygienu – správné mytí rukou\, ochranný oděv\n2.      Hygienu potravin – hygienické ošetření potravin\, kontrola čerstvosti surovin\n3.      Bezpečnou manipulaci s nožem – nácvik na bezpečném dřevěném nožíku\n4.     Obeznámení se s riziky\, které kuchyně má – řezné rány a popáleniny\n5.      Ošetření řezné rány – správné použití náplasti\n \nV druhé části programu si prakticky vyzkoušíme:\n1.      Osobní hygienu\n2.     Co je to recept a jak podle něj vaříme\n3.     Seznámí se s kuchyňským náčiním\n4.     Pomocí správných technik nakrájí a zkontrolují banán\n5.     Krok po kroku dle receptu společně s kuchařem každý připraví svůj muffin\n6.     Úklid a důležitost čistoty a organizace při vaření
URL:https://msvrane.cz/kalendar-akce/projektovy-den-poprve-kucharem-2/
CATEGORIES:Akce celoškolní
END:VEVENT
BEGIN:VEVENT
DTSTART;TZID=Europe/Prague:20250109T083000
DTEND;TZID=Europe/Prague:20250109T103000
DTSTAMP:20260420T051220
CREATED:20241229T194458Z
LAST-MODIFIED:20241229T194458Z
UID:2912-1736411400-1736418600@msvrane.cz
SUMMARY:Logopedická depistáž - třídy žlutá\, oranžová
DESCRIPTION:
URL:https://msvrane.cz/kalendar-akce/logopedicka-depistaz-tridy-zluta-oranzova/
CATEGORIES:Akce Oranžová třída,Akce Žlutá třída
END:VEVENT
BEGIN:VEVENT
DTSTART;TZID=Europe/Prague:20241219T093000
DTEND;TZID=Europe/Prague:20241219T113000
DTSTAMP:20260420T051220
CREATED:20240916T073618Z
LAST-MODIFIED:20240916T073618Z
UID:2868-1734600600-1734607800@msvrane.cz
SUMMARY:Vánoce naruby - zábavně edukační program - Dosvěta
DESCRIPTION:vzdělávací program o smyslu Vánoc. Program bude probíhat po skupinách.
URL:https://msvrane.cz/kalendar-akce/vanoce-naruby-zabavne-edukacni-program-dosveta/
CATEGORIES:Akce celoškolní
END:VEVENT
BEGIN:VEVENT
DTSTART;TZID=Europe/Prague:20241217T153000
DTEND;TZID=Europe/Prague:20241217T163000
DTSTAMP:20260420T051220
CREATED:20240916T073210Z
LAST-MODIFIED:20240916T073210Z
UID:2866-1734449400-1734453000@msvrane.cz
SUMMARY:Vánoční jarmark ve školce
DESCRIPTION:Odpolední setkání s rodiči.
URL:https://msvrane.cz/kalendar-akce/vanocni-jarmark-ve-skolce-2/
CATEGORIES:Akce celoškolní
END:VEVENT
BEGIN:VEVENT
DTSTART;TZID=Europe/Prague:20241205T093000
DTEND;TZID=Europe/Prague:20241205T103000
DTSTAMP:20260420T051220
CREATED:20240916T072749Z
LAST-MODIFIED:20240916T072749Z
UID:2862-1733391000-1733394600@msvrane.cz
SUMMARY:Mikulášská nadílka\, vánoční představení - p. Kubec
DESCRIPTION:
URL:https://msvrane.cz/kalendar-akce/mikulasska-nadilka-vanocni-predstaveni-p-kubec/
CATEGORIES:Akce celoškolní
END:VEVENT
BEGIN:VEVENT
DTSTART;TZID=Europe/Prague:20241204T080000
DTEND;TZID=Europe/Prague:20241204T113000
DTSTAMP:20260420T051220
CREATED:20240916T072956Z
LAST-MODIFIED:20241125T080001Z
UID:2864-1733299200-1733311800@msvrane.cz
SUMMARY:Anděl - vánoční tvoření-p. Jareš
DESCRIPTION:
URL:https://msvrane.cz/kalendar-akce/andel-vanocni-tvoreni-p-jares/
CATEGORIES:Akce celoškolní
END:VEVENT
BEGIN:VEVENT
DTSTART;TZID=Europe/Prague:20241126T093000
DTEND;TZID=Europe/Prague:20241126T101500
DTSTAMP:20260420T051220
CREATED:20240916T072542Z
LAST-MODIFIED:20241229T191007Z
UID:2860-1732613400-1732616100@msvrane.cz
SUMMARY:Maxipes Fík - div. představení - Divadlo Špilberg - pro nemoc zrušeno
DESCRIPTION:
URL:https://msvrane.cz/kalendar-akce/maxipes-fik-div-predstaveni-divadlo-spilberg/
CATEGORIES:Akce celoškolní
END:VEVENT
BEGIN:VEVENT
DTSTART;TZID=Europe/Prague:20241119T090000
DTEND;TZID=Europe/Prague:20241119T103000
DTSTAMP:20260420T051220
CREATED:20241103T200744Z
LAST-MODIFIED:20241103T200744Z
UID:2883-1732006800-1732012200@msvrane.cz
SUMMARY:Návštěva vranské knihovny - třídy červená\, oranžová\, žlutá
DESCRIPTION:
URL:https://msvrane.cz/kalendar-akce/navsteva-vranske-knihovny-tridy-cervena-oranzova-zluta/
CATEGORIES:Akce Červená třída,Akce Oranžová třída,Akce Žlutá třída
END:VEVENT
BEGIN:VEVENT
DTSTART;TZID=Europe/Prague:20241113T093000
DTEND;TZID=Europe/Prague:20241113T103000
DTSTAMP:20260420T051220
CREATED:20241103T200444Z
LAST-MODIFIED:20241110T162131Z
UID:2881-1731490200-1731493800@msvrane.cz
SUMMARY:zdravotní cvičení ve školce - p. Šárová - zrušeno- náhradní termín bude upřesněn
DESCRIPTION:
URL:https://msvrane.cz/kalendar-akce/zdravotni-cviceni-ve-skolce-p-sarova/
CATEGORIES:Akce celoškolní
END:VEVENT
BEGIN:VEVENT
DTSTART;TZID=Europe/Prague:20241113T080000
DTEND;TZID=Europe/Prague:20241113T110000
DTSTAMP:20260420T051220
CREATED:20241110T162407Z
LAST-MODIFIED:20241110T162407Z
UID:2893-1731484800-1731495600@msvrane.cz
SUMMARY:Vánoční fotografování ve školce
DESCRIPTION:Cena jedné sady je 350 Kč.
URL:https://msvrane.cz/kalendar-akce/vanocni-fotografovani-ve-skolce/
CATEGORIES:Akce celoškolní
END:VEVENT
BEGIN:VEVENT
DTSTART;TZID=Europe/Prague:20241024T170000
DTEND;TZID=Europe/Prague:20241024T190000
DTSTAMP:20260420T051220
CREATED:20241020T194102Z
LAST-MODIFIED:20241020T194102Z
UID:2879-1729789200-1729796400@msvrane.cz
SUMMARY:Halloweenská stezka
DESCRIPTION:Začátek stezky ve školce od 17 hod.\, společná akce s rodiči .
URL:https://msvrane.cz/kalendar-akce/halloweenska-stezka/
CATEGORIES:Akce celoškolní
END:VEVENT
BEGIN:VEVENT
DTSTART;TZID=Europe/Prague:20241024T093000
DTEND;TZID=Europe/Prague:20241024T101500
DTSTAMP:20260420T051220
CREATED:20240916T072403Z
LAST-MODIFIED:20241020T193353Z
UID:2858-1729762200-1729764900@msvrane.cz
SUMMARY:Velká mrkvová loupež - div. představení - maňáscci - 100 dortíků
DESCRIPTION:
URL:https://msvrane.cz/kalendar-akce/velka-mrkvova-loupez-div-predstaveni-manascci-100-dortiku/
CATEGORIES:Akce celoškolní
END:VEVENT
BEGIN:VEVENT
DTSTART;TZID=Europe/Prague:20241014T093000
DTEND;TZID=Europe/Prague:20241014T101500
DTSTAMP:20260420T051220
CREATED:20240916T072053Z
LAST-MODIFIED:20240916T072053Z
UID:2856-1728898200-1728900900@msvrane.cz
SUMMARY:Princezna a drak -divadelní představení - marionety- p. Bílek
DESCRIPTION:
URL:https://msvrane.cz/kalendar-akce/princezna-a-drak-divadelni-predstaveni-marionety-p-bilek/
CATEGORIES:Akce celoškolní
END:VEVENT
BEGIN:VEVENT
DTSTART;TZID=Europe/Prague:20240621T093000
DTEND;TZID=Europe/Prague:20240621T110000
DTSTAMP:20260420T051220
CREATED:20240611T154724Z
LAST-MODIFIED:20240611T154724Z
UID:2832-1718962200-1718967600@msvrane.cz
SUMMARY:Sportovní dopoledne s SK Vrané nad Vltavou
DESCRIPTION:Dopolední sportovní program na vranském fotbalovém hřišti pod vedením trenérů SK Vrané.
URL:https://msvrane.cz/kalendar-akce/sportovni-dopoledne-s-sk-vrane-nad-vltavou/
CATEGORIES:Akce celoškolní
END:VEVENT
BEGIN:VEVENT
DTSTART;TZID=Europe/Prague:20240618T080000
DTEND;TZID=Europe/Prague:20240618T153000
DTSTAMP:20260420T051220
CREATED:20240303T174959Z
LAST-MODIFIED:20240303T174959Z
UID:2765-1718697600-1718724600@msvrane.cz
SUMMARY:Výlet na zámek Loučeň - žlutá + zelená tř.
DESCRIPTION:
URL:https://msvrane.cz/kalendar-akce/vylet-na-zamek-loucen-zluta-zelena-tr/
CATEGORIES:Akce Zelená třída,Akce Žlutá třída
END:VEVENT
BEGIN:VEVENT
DTSTART;TZID=Europe/Prague:20240610T153000
DTEND;TZID=Europe/Prague:20240610T163000
DTSTAMP:20260420T051220
CREATED:20240303T175707Z
LAST-MODIFIED:20240303T175707Z
UID:2767-1718033400-1718037000@msvrane.cz
SUMMARY:Pasování předškoláků- p. Koutová - žlutá + oranžová tř.
DESCRIPTION:Pasování předškoláků se bude konat od 15:30 hod\, na spodní zahradě\, účast rodičů vítána.
URL:https://msvrane.cz/kalendar-akce/pasovani-predskolaku-p-koutova-zluta-oranzova-tr/
CATEGORIES:Akce Oranžová třída,Akce Žlutá třída
END:VEVENT
BEGIN:VEVENT
DTSTART;TZID=Europe/Prague:20240604T083000
DTEND;TZID=Europe/Prague:20240604T110000
DTSTAMP:20260420T051220
CREATED:20240109T194651Z
LAST-MODIFIED:20240109T194651Z
UID:2731-1717489800-1717498800@msvrane.cz
SUMMARY:Fotografování tříd
DESCRIPTION:
URL:https://msvrane.cz/kalendar-akce/fotografovani-trid-2/
CATEGORIES:Akce celoškolní
END:VEVENT
BEGIN:VEVENT
DTSTART;TZID=Europe/Prague:20240603T093000
DTEND;TZID=Europe/Prague:20240603T113000
DTSTAMP:20260420T051220
CREATED:20231117T150943Z
LAST-MODIFIED:20231117T150943Z
UID:2669-1717407000-1717414200@msvrane.cz
SUMMARY:Nej\,nej ze/mě - výchovně vzdělávací program - D-osvěta
DESCRIPTION:Program o všeobecné jinakost\, vzájemné toleranci a možnostech podpory a pomoci mezi lidmi. Nezáleží na vzhledu ani na jiných životních okolnostech\, ale vždy jen na tom\, jak se člověk chová. Každý je jiný\, každý od jinud pochází\, žije v jiném prostředí a nachází se v jiné životní situaci. \nProgram je i o tom\, že lidem v nepříznivých životních situacích je možné pomoci a jak. \nVše toto s dětmi probereme v rámci tématu „Vymýšlení vysněné země kde je možné úplně\, ale úplně cokoliv“ \nProgram bude probíhat ve dvou skupinách\, od 9:30 h. a  10:30 h. \n 
URL:https://msvrane.cz/kalendar-akce/nejnej-ze-me-vychovne-vzdelavaci-program-d-osveta/
CATEGORIES:Akce celoškolní
END:VEVENT
BEGIN:VEVENT
DTSTART;TZID=Europe/Prague:20240528T080000
DTEND;TZID=Europe/Prague:20240528T153000
DTSTAMP:20260420T051220
CREATED:20240303T174649Z
LAST-MODIFIED:20240303T174649Z
UID:2763-1716883200-1716910200@msvrane.cz
SUMMARY:Výlet Zvířátkov Olešná u Hořovic - modrá + červená tř.
DESCRIPTION:
URL:https://msvrane.cz/kalendar-akce/vylet-zviratkov-olesna-u-horovic-modra-cervena-tr/
CATEGORIES:Akce Červená třída,Akce Modrá třída
END:VEVENT
BEGIN:VEVENT
DTSTART;TZID=Europe/Prague:20240524T090000
DTEND;TZID=Europe/Prague:20240524T100000
DTSTAMP:20260420T051220
CREATED:20240303T160057Z
LAST-MODIFIED:20240303T160057Z
UID:2756-1716541200-1716544800@msvrane.cz
SUMMARY:Červená Karkulka - p. Bílek - marionety- divadlo
DESCRIPTION:
URL:https://msvrane.cz/kalendar-akce/cervena-karkulka-p-bilek-marionety-divadlo/
CATEGORIES:Akce celoškolní
END:VEVENT
BEGIN:VEVENT
DTSTART;TZID=Europe/Prague:20240520T080000
DTEND;TZID=Europe/Prague:20240520T113000
DTSTAMP:20260420T051220
CREATED:20231117T145941Z
LAST-MODIFIED:20231117T145941Z
UID:2667-1716192000-1716204600@msvrane.cz
SUMMARY:Mobilní dopravní hřiště
DESCRIPTION: Cílem programu  je připravit děti na situace v silničním provozu. Děti se zábavnou formou naučí jak se chovat na komunikacích\, důležité dopravní značky\, jak přecházet přes přechod atd. Na dopravním hřišti nebude chybět dopravní značky\, kruhový objezd\, přechod pro chodce a semafor\,  pro děti jsou připravena i elektrická autíčka a čtyřkolky.
URL:https://msvrane.cz/kalendar-akce/mobilni-dopravni-hriste-2/
CATEGORIES:Akce celoškolní
END:VEVENT
END:VCALENDAR