BEGIN:VCALENDAR
VERSION:2.0
PRODID:-//Mateřská škola Vrané nad Vltavou - ECPv6.15.20//NONSGML v1.0//EN
CALSCALE:GREGORIAN
METHOD:PUBLISH
X-ORIGINAL-URL:https://msvrane.cz
X-WR-CALDESC:Akce na Mateřská škola Vrané nad Vltavou
REFRESH-INTERVAL;VALUE=DURATION:PT1H
X-Robots-Tag:noindex
X-PUBLISHED-TTL:PT1H
BEGIN:VTIMEZONE
TZID:Europe/Prague
BEGIN:DAYLIGHT
TZOFFSETFROM:+0100
TZOFFSETTO:+0200
TZNAME:CEST
DTSTART:20220327T010000
END:DAYLIGHT
BEGIN:STANDARD
TZOFFSETFROM:+0200
TZOFFSETTO:+0100
TZNAME:CET
DTSTART:20221030T010000
END:STANDARD
BEGIN:DAYLIGHT
TZOFFSETFROM:+0100
TZOFFSETTO:+0200
TZNAME:CEST
DTSTART:20230326T010000
END:DAYLIGHT
BEGIN:STANDARD
TZOFFSETFROM:+0200
TZOFFSETTO:+0100
TZNAME:CET
DTSTART:20231029T010000
END:STANDARD
BEGIN:DAYLIGHT
TZOFFSETFROM:+0100
TZOFFSETTO:+0200
TZNAME:CEST
DTSTART:20240331T010000
END:DAYLIGHT
BEGIN:STANDARD
TZOFFSETFROM:+0200
TZOFFSETTO:+0100
TZNAME:CET
DTSTART:20241027T010000
END:STANDARD
END:VTIMEZONE
BEGIN:VEVENT
DTSTART;TZID=Europe/Prague:20231214T090000
DTEND;TZID=Europe/Prague:20231214T113000
DTSTAMP:20260420T034241
CREATED:20231209T130738Z
LAST-MODIFIED:20231209T130738Z
UID:2690-1702544400-1702553400@msvrane.cz
SUMMARY:Betlémy v knihovně
DESCRIPTION:S dětmi navštívíme výstavu betlémů v místní knihovně .
URL:https://msvrane.cz/kalendar-akce/betlemy-v-knihovne/
CATEGORIES:Akce celoškolní
END:VEVENT
BEGIN:VEVENT
DTSTART;TZID=Europe/Prague:20231212T160000
DTEND;TZID=Europe/Prague:20231212T170000
DTSTAMP:20260420T034241
CREATED:20231209T130436Z
LAST-MODIFIED:20231209T130436Z
UID:2688-1702396800-1702400400@msvrane.cz
SUMMARY:Vánoční jarmark
DESCRIPTION:Srdečně vás zveme na vánoční jarmark v mateřské škole. Jarmark se koná 12. 12. 2023 od 16:00 do 17:00 ho.
URL:https://msvrane.cz/kalendar-akce/vanocni-jarmark-2/
CATEGORIES:Akce celoškolní
END:VEVENT
BEGIN:VEVENT
DTSTART;TZID=Europe/Prague:20231212T093000
DTEND;TZID=Europe/Prague:20231212T113000
DTSTAMP:20260420T034241
CREATED:20231114T072338Z
LAST-MODIFIED:20231114T072338Z
UID:2650-1702373400-1702380600@msvrane.cz
SUMMARY:Roztančená školka - Vánoční taneční párty
DESCRIPTION:Nejprve se děti seznámí s programem\, společně vybereme první vánoční skladbu a důkladně rozcvičíme své tělo.\nNásledují jednodušší sestavy Happy dance a Zumby proložené odpočinkovou částí.\nNaučíme se i nové dovednosti\, mimo jiné Balance Workout nebo dětské posilování v intervalu Tabata\nVyzkoušíme i složitější sestavu výrazového tance\, zahrajeme si taneční a pohybové hry a objevíme dynamická cvičení\nna konci lekce následuje protažení a následná relaxace\, tentokrát za doprovodu příjemné vánoční hudby\nDěti si užijí společnou zábavu\, naučí se něco nového a díky vždy pozitivní motivaci lektora\nprogram bude probíhat ve dvou skupinách
URL:https://msvrane.cz/kalendar-akce/roztancena-skolka-vanocni-tanecni-party/
CATEGORIES:Akce celoškolní
END:VEVENT
BEGIN:VEVENT
DTSTART;TZID=Europe/Prague:20231207T093000
DTEND;TZID=Europe/Prague:20231207T110000
DTSTAMP:20260420T034241
CREATED:20230828T175618Z
LAST-MODIFIED:20230828T175618Z
UID:2624-1701941400-1701946800@msvrane.cz
SUMMARY:Mikulášská show
DESCRIPTION:Celým programem Vás provede popletený čertík Cucíno\, kterého se děti nemusí bát\, ale budou se mu spíše smát. Čertík a andílek s dětmi tančí a připravují se na slavnostní příchod Mikuláše. Ještě před jeho příchodem se děti můžou těšit na sněhuláka Olafa Kuličku nebo stromečka Jedličku\, kteří si s nimi také zasoutěží. 
URL:https://msvrane.cz/kalendar-akce/mikulasska-show-3/
CATEGORIES:Akce celoškolní
END:VEVENT
BEGIN:VEVENT
DTSTART;TZID=Europe/Prague:20231205T080000
DTEND;TZID=Europe/Prague:20231205T110000
DTSTAMP:20260420T034241
CREATED:20230828T174407Z
LAST-MODIFIED:20230828T174407Z
UID:2622-1701763200-1701774000@msvrane.cz
SUMMARY:Vánoční fotografování - p. Kučera
DESCRIPTION:
URL:https://msvrane.cz/kalendar-akce/vanocni-fotografovani-p-kucera-2/
CATEGORIES:Akce celoškolní
END:VEVENT
BEGIN:VEVENT
DTSTART;TZID=Europe/Prague:20231129T080000
DTEND;TZID=Europe/Prague:20231129T120000
DTSTAMP:20260420T034241
CREATED:20231114T070754Z
LAST-MODIFIED:20231114T070754Z
UID:2648-1701244800-1701259200@msvrane.cz
SUMMARY:Muzeum betlémů Karlštejn - žlutá\, oranžová třida
DESCRIPTION:Děti navštíví muzeum betlému a poté si pod vedením lektora vyrobí andílka za okno.
URL:https://msvrane.cz/kalendar-akce/muzeum-betlemu-karlstejn-zluta-oranzova-trida/
CATEGORIES:Akce Oranžová třída,Akce Žlutá třída
END:VEVENT
BEGIN:VEVENT
DTSTART;TZID=Europe/Prague:20231128T090000
DTEND;TZID=Europe/Prague:20231128T113000
DTSTAMP:20260420T034241
CREATED:20231114T070114Z
LAST-MODIFIED:20231114T070114Z
UID:2646-1701162000-1701171000@msvrane.cz
SUMMARY:Návštěva knihovny Žlutá\, Oranžová\, Červená třída
DESCRIPTION:
URL:https://msvrane.cz/kalendar-akce/navsteva-knihovny-zluta-oranzova-cervena-trida/
CATEGORIES:Akce Červená třída,Akce Oranžová třída,Akce Žlutá třída
END:VEVENT
BEGIN:VEVENT
DTSTART;TZID=Europe/Prague:20231124T100000
DTEND;TZID=Europe/Prague:20231124T110000
DTSTAMP:20260420T034241
CREATED:20231030T080929Z
LAST-MODIFIED:20231117T130452Z
UID:2639-1700820000-1700823600@msvrane.cz
SUMMARY:Program se sovičkami - Tajemné sovy
DESCRIPTION:Vystoupení se živými sovami\, děti se dozví i zajímavé informace ze života sov.
URL:https://msvrane.cz/kalendar-akce/program-se-sovickami/
CATEGORIES:Akce celoškolní
END:VEVENT
BEGIN:VEVENT
DTSTART;TZID=Europe/Prague:20231116T103000
DTEND;TZID=Europe/Prague:20231116T113000
DTSTAMP:20260420T034241
CREATED:20231114T073429Z
LAST-MODIFIED:20231114T073429Z
UID:2652-1700130600-1700134200@msvrane.cz
SUMMARY:Kvak a Žbluňk - divadlo v ZŠ - oranžová\, červená třída
DESCRIPTION:
URL:https://msvrane.cz/kalendar-akce/kvak-a-zblunk-divadlo-v-zs-oranzova-cervena-trida/
CATEGORIES:Akce Červená třída,Akce Oranžová třída
END:VEVENT
BEGIN:VEVENT
DTSTART;TZID=Europe/Prague:20231024T093000
DTEND;TZID=Europe/Prague:20231024T113000
DTSTAMP:20260420T034241
CREATED:20230828T174157Z
LAST-MODIFIED:20230828T174157Z
UID:2620-1698139800-1698147000@msvrane.cz
SUMMARY:Ve zdravém skřítkovi zdravý duch - D-osvěta
DESCRIPTION: Vzdělávací program o zdravém životním stylu\, významu hygieny\, sportu\, správného jídla\, duševní pohody\, odpočinku a lékařské prevence. \nPo skupinách – od 9:30 a od 10:30
URL:https://msvrane.cz/kalendar-akce/ve-zdravem-skritkovi-zdravy-duch-d-osveta/
CATEGORIES:Akce celoškolní
END:VEVENT
BEGIN:VEVENT
DTSTART;TZID=Europe/Prague:20231018T093000
DTEND;TZID=Europe/Prague:20231018T110000
DTSTAMP:20260420T034241
CREATED:20230828T172850Z
LAST-MODIFIED:20230828T172850Z
UID:2618-1697621400-1697626800@msvrane.cz
SUMMARY:Bublinová \,\,šou" - p. Rucký
DESCRIPTION:Jedinečný program\, ve kterém Vám Cucíno ukáže\, co vše se dá s bublinami dělat. Obří bubliny\, bubliny s párou\, bublinový koberec\, zavírání dětí do bublin ….. \n 
URL:https://msvrane.cz/kalendar-akce/bublinova-sou-p-rucky/
CATEGORIES:Akce celoškolní
END:VEVENT
BEGIN:VEVENT
DTSTART;TZID=Europe/Prague:20230607T073000
DTEND;TZID=Europe/Prague:20230607T133000
DTSTAMP:20260420T034241
CREATED:20230414T190650Z
LAST-MODIFIED:20230414T190650Z
UID:2561-1686123000-1686144600@msvrane.cz
SUMMARY:Farma Moulisových-výlet-tř.zelená\,modrá
DESCRIPTION:Program Mláďata- děti se zábavnou formou a prožitkem dozvědí o životě na farmě\, farmaření ve stodole\, péče o hospodářská zvířata.
URL:https://msvrane.cz/kalendar-akce/farma-moulisovych-vylet-tr-zelenamodra/
CATEGORIES:Akce Modrá třída,Akce Zelená třída
END:VEVENT
BEGIN:VEVENT
DTSTART;TZID=Europe/Prague:20230606T153000
DTEND;TZID=Europe/Prague:20230606T163000
DTSTAMP:20260420T034241
CREATED:20230414T185854Z
LAST-MODIFIED:20230414T185854Z
UID:2559-1686065400-1686069000@msvrane.cz
SUMMARY:Pasování předškoláků- tř. Oranž.+ Žlutá
DESCRIPTION:Odpolední pasování předškoláčků na školní zahradě od 15:30 do 16:30. V programu Indiáni děti čekají indiánské tanečky\, hazení tomahavkem nebo střílení lukem.
URL:https://msvrane.cz/kalendar-akce/pasovani-predskolaku-tr-oranz-zluta/
CATEGORIES:Akce Oranžová třída,Akce Žlutá třída
END:VEVENT
BEGIN:VEVENT
DTSTART;TZID=Europe/Prague:20230530T093000
DTEND;TZID=Europe/Prague:20230530T113000
DTSTAMP:20260420T034241
CREATED:20220926T062434Z
LAST-MODIFIED:20220926T062434Z
UID:2282-1685439000-1685446200@msvrane.cz
SUMMARY:Život v pohybu -Roztančená školka
DESCRIPTION:Děti si vyzkouší základy několika tanečních stylů\, mimo jiné Happy dance\, Tabata pro nejmenší (dětské posilování v intervalu)\, výrazový tanec\, dynamické cvičení\, balance workout a mnoho dalšího.
URL:https://msvrane.cz/kalendar-akce/zivot-v-pohybu-roztancena-skolka/
CATEGORIES:Akce celoškolní
END:VEVENT
BEGIN:VEVENT
DTSTART;TZID=Europe/Prague:20230529T080000
DTEND;TZID=Europe/Prague:20230529T113000
DTSTAMP:20260420T034241
CREATED:20230414T184512Z
LAST-MODIFIED:20230414T184512Z
UID:2557-1685347200-1685359800@msvrane.cz
SUMMARY:Fotografování tříd
DESCRIPTION:
URL:https://msvrane.cz/kalendar-akce/fotografovani-trid/
CATEGORIES:Akce celoškolní
END:VEVENT
BEGIN:VEVENT
DTSTART;TZID=Europe/Prague:20230526T080000
DTEND;TZID=Europe/Prague:20230526T113000
DTSTAMP:20260420T034241
CREATED:20230414T190912Z
LAST-MODIFIED:20230414T190912Z
UID:2563-1685088000-1685100600@msvrane.cz
SUMMARY:Preventivní vyšetření zraku-přihlášené děti
DESCRIPTION:
URL:https://msvrane.cz/kalendar-akce/preventivni-vysetreni-zraku-prihlasene-deti/
CATEGORIES:Akce celoškolní
END:VEVENT
BEGIN:VEVENT
DTSTART;TZID=Europe/Prague:20230525T080000
DTEND;TZID=Europe/Prague:20230525T120000
DTSTAMP:20260420T034241
CREATED:20221119T204434Z
LAST-MODIFIED:20221119T204434Z
UID:2317-1685001600-1685016000@msvrane.cz
SUMMARY:Mobilní dopravní hřiště
DESCRIPTION:Děti se zábavnou formou naučí jak se chovat na komunikacích\, důležité dopravní značky\, jak přecházet přes přechod atd. Na dopravním hřišti jsou pro děti připravena elektrická autíčka\, čtyřkolky.
URL:https://msvrane.cz/kalendar-akce/mobilni-dopravni-hriste/
CATEGORIES:Akce celoškolní
END:VEVENT
BEGIN:VEVENT
DTSTART;TZID=Europe/Prague:20230524T073000
DTEND;TZID=Europe/Prague:20230524T133000
DTSTAMP:20260420T034241
CREATED:20230414T184231Z
LAST-MODIFIED:20230414T184231Z
UID:2555-1684913400-1684935000@msvrane.cz
SUMMARY:Farma Moulisových - výlet tř. Ž\,O\,Č
DESCRIPTION:Program Farmáři-děti se zábavnou formou a prožitkem seznámí s životem  na farmě – dojení a stloukání másla\, farmaření ve stodole\, péče o hospodářská zvířata. \n 
URL:https://msvrane.cz/kalendar-akce/farma-moulisovych-vylet-tr-zoc/
CATEGORIES:Akce Červená třída,Akce Oranžová třída,Akce Žlutá třída
END:VEVENT
BEGIN:VEVENT
DTSTART;TZID=Europe/Prague:20230517T153000
DTEND;TZID=Europe/Prague:20230517T163000
DTSTAMP:20260420T034241
CREATED:20230414T181749Z
LAST-MODIFIED:20230414T181749Z
UID:2553-1684337400-1684341000@msvrane.cz
SUMMARY:Dravci v letu - odpolední akce
DESCRIPTION:Setkání s okřídlenými dravci na zahradě mateřské školy\, akce se koná od 15:30 do 16:30. Rodiče vítáni.
URL:https://msvrane.cz/kalendar-akce/dravci-v-letu-odpoledni-akce/
CATEGORIES:Akce celoškolní
END:VEVENT
BEGIN:VEVENT
DTSTART;TZID=Europe/Prague:20230504T091500
DTEND;TZID=Europe/Prague:20230504T113000
DTSTAMP:20260420T034241
CREATED:20230414T180746Z
LAST-MODIFIED:20230414T180746Z
UID:2551-1683191700-1683199800@msvrane.cz
SUMMARY:Setkání s netopýry-čer.\,zel.\,mod.tř
DESCRIPTION:Děti zábavnou formou získají povědomí o životě netopýrů. Program bude probíhat po skupinách.
URL:https://msvrane.cz/kalendar-akce/setkani-s-netopyry-cer-zel-mod-tr/
CATEGORIES:Akce celoškolní
END:VEVENT
BEGIN:VEVENT
DTSTART;TZID=Europe/Prague:20230503T091500
DTEND;TZID=Europe/Prague:20230503T113000
DTSTAMP:20260420T034241
CREATED:20230414T180227Z
LAST-MODIFIED:20230414T180227Z
UID:2549-1683105300-1683113400@msvrane.cz
SUMMARY:Setkání s netopýry-žl.+oranž.tř.
DESCRIPTION:Děti získají zábavnou formou povědomí o životě netopýrů. Program bude probíhat po skupinách.
URL:https://msvrane.cz/kalendar-akce/setkani-s-netopyry-zl-oranz-tr/
CATEGORIES:Akce celoškolní
END:VEVENT
BEGIN:VEVENT
DTSTART;TZID=Europe/Prague:20230427T100000
DTEND;TZID=Europe/Prague:20230427T113000
DTSTAMP:20260420T034241
CREATED:20230404T074930Z
LAST-MODIFIED:20230404T074930Z
UID:2543-1682589600-1682595000@msvrane.cz
SUMMARY:Koncert v ZUŠ
DESCRIPTION:Vystoupení žáků ZUŠ pro děti z mateřské školy 
URL:https://msvrane.cz/kalendar-akce/koncert-v-zus/
CATEGORIES:Akce celoškolní
END:VEVENT
BEGIN:VEVENT
DTSTART;TZID=Europe/Prague:20230425T153000
DTEND;TZID=Europe/Prague:20230425T163000
DTSTAMP:20260420T034241
CREATED:20221119T203734Z
LAST-MODIFIED:20230422T070835Z
UID:2315-1682436600-1682440200@msvrane.cz
SUMMARY:Čarodějnice - ZRUŠENO
DESCRIPTION:Odpolední program na zahradě od 15:30. Celým programem provází upír\, který s dětmi tančí\, kouzlí a závodí s pavouky. Čarodějnice a čarodějové vítáni.
URL:https://msvrane.cz/kalendar-akce/carodejnice/
CATEGORIES:Akce celoškolní
END:VEVENT
BEGIN:VEVENT
DTSTART;TZID=Europe/Prague:20230417T093000
DTEND;TZID=Europe/Prague:20230417T113000
DTSTAMP:20260420T034241
CREATED:20220926T061806Z
LAST-MODIFIED:20220926T061806Z
UID:2280-1681723800-1681731000@msvrane.cz
SUMMARY:Pomóóóc - zábavně vzdělávací program
DESCRIPTION:Zábavně vzdělávací program pro předškolní děti na téma přivolávání a poskytování 1.pomoci\, doplněný návody a materiály k vícedennímu projektu souvisejícímu s  daným tématem. \nDěti by se měly naučit: \n– co dělají hasiči\, policie\, záchranáři \n– jaká mají čísla \n– co jim do telefonu říkat \n– jak se postarat o postiženého \n– co udělat než/až pomoc přijede \nJedná se o cca  45ti minutový program\, který vedou jeden nebo dva lektoři. S dětmi se procvičují čísla na tísňové linky\, trénují se hovory s jejich operátory a proběhne jednoduchý základní nácvik záklonu hlavy člověka\, který nedýchá. Vše s co nejreálnějšími pomůckami. Za pomoci mnoha obrázků\, říkanek a maňásků. \nProgram proběhne po skupinách.
URL:https://msvrane.cz/kalendar-akce/pomoooc-zabavne-vzdelavaci-program/
CATEGORIES:Akce celoškolní
END:VEVENT
BEGIN:VEVENT
DTSTART;TZID=Europe/Prague:20230412T090000
DTEND;TZID=Europe/Prague:20230412T113000
DTSTAMP:20260420T034241
CREATED:20221119T202055Z
LAST-MODIFIED:20221119T202055Z
UID:2313-1681290000-1681299000@msvrane.cz
SUMMARY:Program stavitel mostů-Malá technická univerzita\, červená a zelená tř.
DESCRIPTION:Během programu se děti dozví co je pilíř a jak jej postavit\, postaví veliký most a ověří jeho stabilitu. Dozví se něco o Karlu IV. a stavbě Karlova mostu. Naučí se stavět podle návodu. Vyvrcholením programu je volné hraní s výsledným dílem. Děti získají osvědčení (diplom).
URL:https://msvrane.cz/kalendar-akce/program-stavitel-mostu-mala-technicka-univerzita-cervena-a-zelena-tr/
CATEGORIES:Akce Červená třída,Akce Zelená třída
END:VEVENT
BEGIN:VEVENT
DTSTART;TZID=Europe/Prague:20230405T080000
DTEND;TZID=Europe/Prague:20230405T120000
DTSTAMP:20260420T034241
CREATED:20230404T071734Z
LAST-MODIFIED:20230404T071734Z
UID:2541-1680681600-1680696000@msvrane.cz
SUMMARY:Velikonoční tvoření
DESCRIPTION:Polytechnické tvoření- výroba velikonočního zajíčka ze dřeva
URL:https://msvrane.cz/kalendar-akce/velikonocni-tvoreni/
CATEGORIES:Akce celoškolní
END:VEVENT
BEGIN:VEVENT
DTSTART;TZID=Europe/Prague:20230307T091500
DTEND;TZID=Europe/Prague:20230307T101000
DTSTAMP:20260420T034241
CREATED:20220926T061125Z
LAST-MODIFIED:20220926T061229Z
UID:2277-1678180500-1678183800@msvrane.cz
SUMMARY:Plecha a Neplecha v lese - p. Kubec
DESCRIPTION:Každý správný kamarád\, pohádky má taky rád. Proto se v tomto představení vypravíme s dětmi do lesa a budeme si povídat o stromech\, květinách\, o vodě a hlavně o zvířátkách. Můžeme v lese potkat strašidla nebo jen lesní zvířátka? To třeba ježek umí udělat pěkný rámus. Jak se zvířátka chystají na zimu a jak to vypadá\, když se probudí ze zimního spánku? Pokud jdeme na houby\, musíme si dát pozor na ty jedovaté! Zazpíváme mnoho krásných písniček a také pozveme děti\, aby nám aktivně pomáhaly hledat\, co se to vše v lese děje.
URL:https://msvrane.cz/kalendar-akce/plech-a-neplecha-v-lese-p-kubec/
CATEGORIES:Akce celoškolní
END:VEVENT
BEGIN:VEVENT
DTSTART;TZID=Europe/Prague:20230224T090000
DTEND;TZID=Europe/Prague:20230224T113000
DTSTAMP:20260420T034241
CREATED:20221002T102544Z
LAST-MODIFIED:20221002T102544Z
UID:2294-1677229200-1677238200@msvrane.cz
SUMMARY:Výukový program Masopust držíme
DESCRIPTION:Děti se dozvědí\, proč se masopust slaví. Vyrobíme si tradiční\nmasopustní kloboučky. Na závěr programu bude masopustní rej\, kde si\nspolečně zatančíme a zazpíváme. Společně se vrátíme do doby\, kdy se\nmasopust slavil v každé vesnici.\n• Děti se z pohádkového příběhu dozvědí\, co je to Masopust\n• Výroba masopustních masek a hudebních nástrojů\n• Masopustní písně a tance\n• Masopustní průvod \nProgram bude probíhat po skupinách 23. a 24. 2. 2023
URL:https://msvrane.cz/kalendar-akce/vyukovy-program-masopust-drzime-2/
CATEGORIES:Akce celoškolní
END:VEVENT
BEGIN:VEVENT
DTSTART;TZID=Europe/Prague:20230223T090000
DTEND;TZID=Europe/Prague:20230223T113000
DTSTAMP:20260420T034241
CREATED:20221002T102324Z
LAST-MODIFIED:20221002T102324Z
UID:2292-1677142800-1677151800@msvrane.cz
SUMMARY:Výukový program Masopust držíme
DESCRIPTION:Děti se dozvědí\, proč se masopust slaví. Vyrobíme si tradiční\nmasopustní kloboučky. Na závěr programu bude masopustní rej\, kde si\nspolečně zatančíme a zazpíváme. Společně se vrátíme do doby\, kdy se\nmasopust slavil v každé vesnici.\n• Děti se z pohádkového příběhu dozvědí\, co je to Masopust\n• Výroba masopustních masek a hudebních nástrojů\n• Masopustní písně a tance\n• Masopustní průvod \nProgram bude probíhat po skupinách 23. a 24. 2. 2023
URL:https://msvrane.cz/kalendar-akce/vyukovy-program-masopust-drzime/
CATEGORIES:Akce celoškolní
END:VEVENT
BEGIN:VEVENT
DTSTART;TZID=Europe/Prague:20230209T093000
DTEND;TZID=Europe/Prague:20230209T103000
DTSTAMP:20260420T034241
CREATED:20220912T190458Z
LAST-MODIFIED:20220912T190458Z
UID:2275-1675935000-1675938600@msvrane.cz
SUMMARY:Div. představení Jak se Barborka zatoulala - p. Koutová Jana
DESCRIPTION:Dobrodružnou pohádku doplňují známé písničky Zdeňka Svěráka a Jaroslava Uhlíře. V pohádce zazní hity STATISTIKA\, KDYŽ SE ZAMILUJE KŮŇ\, POD DUBEM ZA DUBEM\, HLUPÁKU\,NAJDU TĚ\, DATEL\, KDYBY SE V KOMNATACH\, KOLOBĚŽKA\,NENÍ NUTNO.. a spousta dalších.\nBarborka odjede na tábor\, ale jelikož se jí tam nelíbí a stýská se jí po domově\, rozhodne se\, že uteče.. Protože překročí bludný kořen\, dostane se do pohádky a stane se kočkou\, cestou domů zažije všelijaká dobrodružství\, potká datla\, koně\, loupežníky a pak přijde na to\, že když přizná svou chybu a omluví se\, za to\, že utekla\, stane se opět Barborkou a dostane se v pořádku domů k tatínkovi\nPohádka má 50 minut. \n 
URL:https://msvrane.cz/kalendar-akce/div-predstaveni-jak-se-barborka-zatoulala-p-koutova-jana/
CATEGORIES:Akce celoškolní
END:VEVENT
END:VCALENDAR